View In:
ArcMap
ArcGIS Explorer
ArcGIS JavaScript
Google Earth
ArcGIS.com Map
Bing Maps
(terms of use)
View Footprint In:
Google Earth
Service Description:
Map Name: Limiti amministrativi
Legend
All Layers and Tables
Layers:
Tables:
Description:
Copyright Text:
Spatial Reference: 102100 (3857)
Single Fused Map Cache: true
Tile Info:
- Height: 256
- Width: 256
- DPI: 96
- Levels of Detail: (# Levels: 14)
-
Level ID: 0
[Start Tile,
End Tile]
Resolution: 2445,98490512499
Scale: 9244648,868618
-
Level ID: 1
[Start Tile,
End Tile]
Resolution: 1222,99245256249
Scale: 4622324,434309
-
Level ID: 2
[Start Tile,
End Tile]
Resolution: 611,49622628138
Scale: 2311162,217155
-
Level ID: 3
[Start Tile,
End Tile]
Resolution: 305,748113140558
Scale: 1155581,108577
-
Level ID: 4
[Start Tile,
End Tile]
Resolution: 152,874056570411
Scale: 577790,554289
-
Level ID: 5
[Start Tile,
End Tile]
Resolution: 76,4370282850732
Scale: 288895,277144
-
Level ID: 6
[Start Tile,
End Tile]
Resolution: 38,2185141425366
Scale: 144447,638572
-
Level ID: 7
[Start Tile,
End Tile]
Resolution: 19,1092570712683
Scale: 72223,819286
-
Level ID: 8
[Start Tile,
End Tile]
Resolution: 9,55462853563415
Scale: 36111,909643
-
Level ID: 9
[Start Tile,
End Tile]
Resolution: 4,77731426794937
Scale: 18055,954822
-
Level ID: 10
[Start Tile,
End Tile]
Resolution: 2,38865713397468
Scale: 9027,977411
-
Level ID: 11
[Start Tile,
End Tile]
Resolution: 1,19432856685505
Scale: 4513,988705
-
Level ID: 12
[Start Tile,
End Tile]
Resolution: 0,597164283559817
Scale: 2256,994353
-
Level ID: 13
[Start Tile,
End Tile]
Resolution: 0,298582141647617
Scale: 1128,497176
- Format: PNG8
- Compression Quality: 0
-
Origin:
X: -20037508,342787
Y: 20037508,342787
- Spatial Reference: 102100 (3857)
Initial Extent:
XMin: 1008846.73308374
YMin: 5611444.79066305
XMax: 1224203.26359564
YMax: 5701294.67607686
Spatial Reference: 102100 (3857)
Full Extent:
XMin: 1051893.39120364
YMin: 5611444.79066305
XMax: 1181156.60547574
YMax: 5701294.67607686
Spatial Reference: 102100 (3857)
Units: esriMeters
Supported Image Format Types: PNG32,PNG24,PNG,JPG,DIB,TIFF,EMF,PS,PDF,GIF,SVG,SVGZ,BMP
Document Info:
- Title:
- Author:
- Comments:
- Subject:
- Category:
- Keywords:
- AntialiasingMode: None
- TextAntialiasingMode: Force
Supported Interfaces:
REST
SOAP
Supported Operations:
Export Map
Identify
Find